Workbook

Sheet Журнал
A1: Журнал учёта моточасов
A2: Одна строка — один замер. Записывайте по порядку дат. Жёлтые ячейки заполняете вы, зелёные считаются сами. Grada — CRM с ИИ-помощником для дилеров спецтехники · gradacrm.ru
A4: Дата замера | B4: Машина (модель, зав. № или VIN) | C4: Объект | D4: Показание счётчика, м/ч | E4: Кто снял | F4: Как снято | G4: Наработка с прошлого замера, м/ч | H4: Дней с прошлого замера | I4: Темп, м/ч в день | J4: Проверка | K4: Комментарий
A5: 46266 | B5: Экскаватор 40 т, зав. № 1001 | C5: Карьер «Северный» | D5: 4210 | E5: механик | F5: фото счётчика | G5: ="" | H5: ="" | I5: ="" | J5: =IF(D5="","","первый замер")
A6: 46266 | B6: Погрузчик 5 т, зав. № 2002 | C6: База | D6: 9870 | E6: оператор | F6: путевой лист | G6: =IF(OR(B6="",D6=""),"",IFERROR(D6-LOOKUP(2,1/($B$5:B5=B6),$D$5:D5),"")) | H6: =IF(OR(B6="",A6=""),"",IFERROR(A6-LOOKUP(2,1/($B$5:B5=B6),$A$5:A5),"")) | I6: =IF(OR(G6="",H6="",H6<=0),"",G6/H6) | J6: =IF(D6="","",IF(G6="","первый замер",IF(G6<0,"меньше прошлого — проверьте счётчик",IF(AND(I6<>"",I6>24),"больше 24 м/ч в сутки — проверьте","ок"))))
A7: 46281 | B7: Экскаватор 40 т, зав. № 1001 | C7: Карьер «Северный» | D7: 4455 | E7: оператор | F7: путевой лист | G7: =IF(OR(B7="",D7=""),"",IFERROR(D7-LOOKUP(2,1/($B$5:B6=B7),$D$5:D6),"")) | H7: =IF(OR(B7="",A7=""),"",IFERROR(A7-LOOKUP(2,1/($B$5:B6=B7),$A$5:A6),"")) | I7: =IF(OR(G7="",H7="",H7<=0),"",G7/H7) | J7: =IF(D7="","",IF(G7="","первый замер",IF(G7<0,"меньше прошлого — проверьте счётчик",IF(AND(I7<>"",I7>24),"больше 24 м/ч в сутки — проверьте","ок"))))
A8: 46296 | B8: Экскаватор 40 т, зав. № 1001 | C8: Карьер «Северный» | D8: 4690 | E8: телематика | F8: телематика | G8: =IF(OR(B8="",D8=""),"",IFERROR(D8-LOOKUP(2,1/($B$5:B7=B8),$D$5:D7),"")) | H8: =IF(OR(B8="",A8=""),"",IFERROR(A8-LOOKUP(2,1/($B$5:B7=B8),$A$5:A7),"")) | I8: =IF(OR(G8="",H8="",H8<=0),"",G8/H8) | J8: =IF(D8="","",IF(G8="","первый замер",IF(G8<0,"меньше прошлого — проверьте счётчик",IF(AND(I8<>"",I8>24),"больше 24 м/ч в сутки — проверьте","ок"))))
A9: 46296 | B9: Погрузчик 5 т, зав. № 2002 | C9: База | D9: 9860 | E9: оператор | F9: со слов | G9: =IF(OR(B9="",D9=""),"",IFERROR(D9-LOOKUP(2,1/($B$5:B8=B9),$D$5:D8),"")) | H9: =IF(OR(B9="",A9=""),"",IFERROR(A9-LOOKUP(2,1/($B$5:B8=B9),$A$5:A8),"")) | I9: =IF(OR(G9="",H9="",H9<=0),"",G9/H9) | J9: =IF(D9="","",IF(G9="","первый замер",IF(G9<0,"меньше прошлого — проверьте счётчик",IF(AND(I9<>"",I9>24),"больше 24 м/ч в сутки — проверьте","ок"))))
G10: =IF(OR(B10="",D10=""),"",IFERROR(D10-LOOKUP(2,1/($B$5:B9=B10),$D$5:D9),"")) | H10: =IF(OR(B10="",A10=""),"",IFERROR(A10-LOOKUP(2,1/($B$5:B9=B10),$A$5:A9),"")) | I10: =IF(OR(G10="",H10="",H10<=0),"",G10/H10) | J10: =IF(D10="","",IF(G10="","первый замер",IF(G10<0,"меньше прошлого — проверьте счётчик",IF(AND(I10<>"",I10>24),"больше 24 м/ч в сутки — проверьте","ок"))))
G11: =IF(OR(B11="",D11=""),"",IFERROR(D11-LOOKUP(2,1/($B$5:B10=B11),$D$5:D10),"")) | H11: =IF(OR(B11="",A11=""),"",IFERROR(A11-LOOKUP(2,1/($B$5:B10=B11),$A$5:A10),"")) | I11: =IF(OR(G11="",H11="",H11<=0),"",G11/H11) | J11: =IF(D11="","",IF(G11="","первый замер",IF(G11<0,"меньше прошлого — проверьте счётчик",IF(AND(I11<>"",I11>24),"больше 24 м/ч в сутки — проверьте","ок"))))
G12: =IF(OR(B12="",D12=""),"",IFERROR(D12-LOOKUP(2,1/($B$5:B11=B12),$D$5:D11),"")) | H12: =IF(OR(B12="",A12=""),"",IFERROR(A12-LOOKUP(2,1/($B$5:B11=B12),$A$5:A11),"")) | I12: =IF(OR(G12="",H12="",H12<=0),"",G12/H12) | J12: =IF(D12="","",IF(G12="","первый замер",IF(G12<0,"меньше прошлого — проверьте счётчик",IF(AND(I12<>"",I12>24),"больше 24 м/ч в сутки — проверьте","ок"))))
G13: =IF(OR(B13="",D13=""),"",IFERROR(D13-LOOKUP(2,1/($B$5:B12=B13),$D$5:D12),"")) | H13: =IF(OR(B13="",A13=""),"",IFERROR(A13-LOOKUP(2,1/($B$5:B12=B13),$A$5:A12),"")) | I13: =IF(OR(G13="",H13="",H13<=0),"",G13/H13) | J13: =IF(D13="","",IF(G13="","первый замер",IF(G13<0,"меньше прошлого — проверьте счётчик",IF(AND(I13<>"",I13>24),"больше 24 м/ч в сутки — проверьте","ок"))))
G14: =IF(OR(B14="",D14=""),"",IFERROR(D14-LOOKUP(2,1/($B$5:B13=B14),$D$5:D13),"")) | H14: =IF(OR(B14="",A14=""),"",IFERROR(A14-LOOKUP(2,1/($B$5:B13=B14),$A$5:A13),"")) | I14: =IF(OR(G14="",H14="",H14<=0),"",G14/H14) | J14: =IF(D14="","",IF(G14="","первый замер",IF(G14<0,"меньше прошлого — проверьте счётчик",IF(AND(I14<>"",I14>24),"больше 24 м/ч в сутки — проверьте","ок"))))
G15: =IF(OR(B15="",D15=""),"",IFERROR(D15-LOOKUP(2,1/($B$5:B14=B15),$D$5:D14),"")) | H15: =IF(OR(B15="",A15=""),"",IFERROR(A15-LOOKUP(2,1/($B$5:B14=B15),$A$5:A14),"")) | I15: =IF(OR(G15="",H15="",H15<=0),"",G15/H15) | J15: =IF(D15="","",IF(G15="","первый замер",IF(G15<0,"меньше прошлого — проверьте счётчик",IF(AND(I15<>"",I15>24),"больше 24 м/ч в сутки — проверьте","ок"))))
G16: =IF(OR(B16="",D16=""),"",IFERROR(D16-LOOKUP(2,1/($B$5:B15=B16),$D$5:D15),"")) | H16: =IF(OR(B16="",A16=""),"",IFERROR(A16-LOOKUP(2,1/($B$5:B15=B16),$A$5:A15),"")) | I16: =IF(OR(G16="",H16="",H16<=0),"",G16/H16) | J16: =IF(D16="","",IF(G16="","первый замер",IF(G16<0,"меньше прошлого — проверьте счётчик",IF(AND(I16<>"",I16>24),"больше 24 м/ч в сутки — проверьте","ок"))))
G17: =IF(OR(B17="",D17=""),"",IFERROR(D17-LOOKUP(2,1/($B$5:B16=B17),$D$5:D16),"")) | H17: =IF(OR(B17="",A17=""),"",IFERROR(A17-LOOKUP(2,1/($B$5:B16=B17),$A$5:A16),"")) | I17: =IF(OR(G17="",H17="",H17<=0),"",G17/H17) | J17: =IF(D17="","",IF(G17="","первый замер",IF(G17<0,"меньше прошлого — проверьте счётчик",IF(AND(I17<>"",I17>24),"больше 24 м/ч в сутки — проверьте","ок"))))
G18: =IF(OR(B18="",D18=""),"",IFERROR(D18-LOOKUP(2,1/($B$5:B17=B18),$D$5:D17),"")) | H18: =IF(OR(B18="",A18=""),"",IFERROR(A18-LOOKUP(2,1/($B$5:B17=B18),$A$5:A17),"")) | I18: =IF(OR(G18="",H18="",H18<=0),"",G18/H18) | J18: =IF(D18="","",IF(G18="","первый замер",IF(G18<0,"меньше прошлого — проверьте счётчик",IF(AND(I18<>"",I18>24),"больше 24 м/ч в сутки — проверьте","ок"))))
G19: =IF(OR(B19="",D19=""),"",IFERROR(D19-LOOKUP(2,1/($B$5:B18=B19),$D$5:D18),"")) | H19: =IF(OR(B19="",A19=""),"",IFERROR(A19-LOOKUP(2,1/($B$5:B18=B19),$A$5:A18),"")) | I19: =IF(OR(G19="",H19="",H19<=0),"",G19/H19) | J19: =IF(D19="","",IF(G19="","первый замер",IF(G19<0,"меньше прошлого — проверьте счётчик",IF(AND(I19<>"",I19>24),"больше 24 м/ч в сутки — проверьте","ок"))))
G20: =IF(OR(B20="",D20=""),"",IFERROR(D20-LOOKUP(2,1/($B$5:B19=B20),$D$5:D19),"")) | H20: =IF(OR(B20="",A20=""),"",IFERROR(A20-LOOKUP(2,1/($B$5:B19=B20),$A$5:A19),"")) | I20: =IF(OR(G20="",H20="",H20<=0),"",G20/H20) | J20: =IF(D20="","",IF(G20="","первый замер",IF(G20<0,"меньше прошлого — проверьте счётчик",IF(AND(I20<>"",I20>24),"больше 24 м/ч в сутки — проверьте","ок"))))
G21: =IF(OR(B21="",D21=""),"",IFERROR(D21-LOOKUP(2,1/($B$5:B20=B21),$D$5:D20),"")) | H21: =IF(OR(B21="",A21=""),"",IFERROR(A21-LOOKUP(2,1/($B$5:B20=B21),$A$5:A20),"")) | I21: =IF(OR(G21="",H21="",H21<=0),"",G21/H21) | J21: =IF(D21="","",IF(G21="","первый замер",IF(G21<0,"меньше прошлого — проверьте счётчик",IF(AND(I21<>"",I21>24),"больше 24 м/ч в сутки — проверьте","ок"))))
... G504: =IF(OR(B504="",D504=""),"",IFERROR(D504-LOOKUP(2,1/($B$5:B503=B504),$D$5:D503),"")) | H504: =IF(OR(B504="",A504=""),"",IFERROR(A504-LOOKUP(2,1/($B$5:B503=B504),$A$5:A503),"")) | I504: =IF(OR(G504="",H504="",H504<=0),"",G504/H504) | J504: =IF(D504="","",IF(G504="","первый замер",IF(G504<0,"меньше прошлого — проверьте счётчик",IF(AND(I504<>"",I504>24),"больше 24 м/ч в сутки — проверьте","ок"))))

Sheet Машины
A1: Машины: наработка сегодня и следующее ТО
A2: Впишите машину так же, как в журнале, и интервал ТО. Остальное подтянется из журнала. Grada — CRM с ИИ-помощником для дилеров спецтехники · gradacrm.ru
A3: Сегодня: | B3: =TODAY()
A5: Машина (как в журнале) | B5: Интервал ТО, м/ч | C5: Последний замер: дата | D5: Последний замер: м/ч | E5: Темп, м/ч в день | F5: Наработка сегодня (оценка) | G5: Следующее ТО на, м/ч | H5: Осталось, м/ч | I5: Ориентир даты ТО
A6: Экскаватор 40 т, зав. № 1001 | B6: 500 | C6: =IF(A6="","",IFERROR(LOOKUP(2,1/('Журнал'!$B$5:$B$504=A6),'Журнал'!$A$5:$A$504),"")) | D6: =IF(A6="","",IFERROR(LOOKUP(2,1/('Журнал'!$B$5:$B$504=A6),'Журнал'!$D$5:$D$504),"")) | E6: =IF(A6="","",IFERROR(LOOKUP(2,1/(('Журнал'!$B$5:$B$504=A6)*('Журнал'!$I$5:$I$504<>"")),'Журнал'!$I$5:$I$504),"")) | F6: =IF(OR(D6="",E6=""),D6,D6+E6*MAX(0,$B$3-C6)) | G6: =IF(OR(F6="",B6=""),"",(INT(F6/B6)+1)*B6) | H6: =IF(G6="","",G6-F6) | I6: =IF(OR(H6="",E6="",E6<=0),"",$B$3+H6/E6)
A7: Погрузчик 5 т, зав. № 2002 | B7: 250 | C7: =IF(A7="","",IFERROR(LOOKUP(2,1/('Журнал'!$B$5:$B$504=A7),'Журнал'!$A$5:$A$504),"")) | D7: =IF(A7="","",IFERROR(LOOKUP(2,1/('Журнал'!$B$5:$B$504=A7),'Журнал'!$D$5:$D$504),"")) | E7: =IF(A7="","",IFERROR(LOOKUP(2,1/(('Журнал'!$B$5:$B$504=A7)*('Журнал'!$I$5:$I$504<>"")),'Журнал'!$I$5:$I$504),"")) | F7: =IF(OR(D7="",E7=""),D7,D7+E7*MAX(0,$B$3-C7)) | G7: =IF(OR(F7="",B7=""),"",(INT(F7/B7)+1)*B7) | H7: =IF(G7="","",G7-F7) | I7: =IF(OR(H7="",E7="",E7<=0),"",$B$3+H7/E7)
C8: =IF(A8="","",IFERROR(LOOKUP(2,1/('Журнал'!$B$5:$B$504=A8),'Журнал'!$A$5:$A$504),"")) | D8: =IF(A8="","",IFERROR(LOOKUP(2,1/('Журнал'!$B$5:$B$504=A8),'Журнал'!$D$5:$D$504),"")) | E8: =IF(A8="","",IFERROR(LOOKUP(2,1/(('Журнал'!$B$5:$B$504=A8)*('Журнал'!$I$5:$I$504<>"")),'Журнал'!$I$5:$I$504),"")) | F8: =IF(OR(D8="",E8=""),D8,D8+E8*MAX(0,$B$3-C8)) | G8: =IF(OR(F8="",B8=""),"",(INT(F8/B8)+1)*B8) | H8: =IF(G8="","",G8-F8) | I8: =IF(OR(H8="",E8="",E8<=0),"",$B$3+H8/E8)
C9: =IF(A9="","",IFERROR(LOOKUP(2,1/('Журнал'!$B$5:$B$504=A9),'Журнал'!$A$5:$A$504),"")) | D9: =IF(A9="","",IFERROR(LOOKUP(2,1/('Журнал'!$B$5:$B$504=A9),'Журнал'!$D$5:$D$504),"")) | E9: =IF(A9="","",IFERROR(LOOKUP(2,1/(('Журнал'!$B$5:$B$504=A9)*('Журнал'!$I$5:$I$504<>"")),'Журнал'!$I$5:$I$504),"")) | F9: =IF(OR(D9="",E9=""),D9,D9+E9*MAX(0,$B$3-C9)) | G9: =IF(OR(F9="",B9=""),"",(INT(F9/B9)+1)*B9) | H9: =IF(G9="","",G9-F9) | I9: =IF(OR(H9="",E9="",E9<=0),"",$B$3+H9/E9)
C10: =IF(A10="","",IFERROR(LOOKUP(2,1/('Журнал'!$B$5:$B$504=A10),'Журнал'!$A$5:$A$504),"")) | D10: =IF(A10="","",IFERROR(LOOKUP(2,1/('Журнал'!$B$5:$B$504=A10),'Журнал'!$D$5:$D$504),"")) | E10: =IF(A10="","",IFERROR(LOOKUP(2,1/(('Журнал'!$B$5:$B$504=A10)*('Журнал'!$I$5:$I$504<>"")),'Журнал'!$I$5:$I$504),"")) | F10: =IF(OR(D10="",E10=""),D10,D10+E10*MAX(0,$B$3-C10)) | G10: =IF(OR(F10="",B10=""),"",(INT(F10/B10)+1)*B10) | H10: =IF(G10="","",G10-F10) | I10: =IF(OR(H10="",E10="",E10<=0),"",$B$3+H10/E10)
C11: =IF(A11="","",IFERROR(LOOKUP(2,1/('Журнал'!$B$5:$B$504=A11),'Журнал'!$A$5:$A$504),"")) | D11: =IF(A11="","",IFERROR(LOOKUP(2,1/('Журнал'!$B$5:$B$504=A11),'Журнал'!$D$5:$D$504),"")) | E11: =IF(A11="","",IFERROR(LOOKUP(2,1/(('Журнал'!$B$5:$B$504=A11)*('Журнал'!$I$5:$I$504<>"")),'Журнал'!$I$5:$I$504),"")) | F11: =IF(OR(D11="",E11=""),D11,D11+E11*MAX(0,$B$3-C11)) | G11: =IF(OR(F11="",B11=""),"",(INT(F11/B11)+1)*B11) | H11: =IF(G11="","",G11-F11) | I11: =IF(OR(H11="",E11="",E11<=0),"",$B$3+H11/E11)
C12: =IF(A12="","",IFERROR(LOOKUP(2,1/('Журнал'!$B$5:$B$504=A12),'Журнал'!$A$5:$A$504),"")) | D12: =IF(A12="","",IFERROR(LOOKUP(2,1/('Журнал'!$B$5:$B$504=A12),'Журнал'!$D$5:$D$504),"")) | E12: =IF(A12="","",IFERROR(LOOKUP(2,1/(('Журнал'!$B$5:$B$504=A12)*('Журнал'!$I$5:$I$504<>"")),'Журнал'!$I$5:$I$504),"")) | F12: =IF(OR(D12="",E12=""),D12,D12+E12*MAX(0,$B$3-C12)) | G12: =IF(OR(F12="",B12=""),"",(INT(F12/B12)+1)*B12) | H12: =IF(G12="","",G12-F12) | I12: =IF(OR(H12="",E12="",E12<=0),"",$B$3+H12/E12)
C13: =IF(A13="","",IFERROR(LOOKUP(2,1/('Журнал'!$B$5:$B$504=A13),'Журнал'!$A$5:$A$504),"")) | D13: =IF(A13="","",IFERROR(LOOKUP(2,1/('Журнал'!$B$5:$B$504=A13),'Журнал'!$D$5:$D$504),"")) | E13: =IF(A13="","",IFERROR(LOOKUP(2,1/(('Журнал'!$B$5:$B$504=A13)*('Журнал'!$I$5:$I$504<>"")),'Журнал'!$I$5:$I$504),"")) | F13: =IF(OR(D13="",E13=""),D13,D13+E13*MAX(0,$B$3-C13)) | G13: =IF(OR(F13="",B13=""),"",(INT(F13/B13)+1)*B13) | H13: =IF(G13="","",G13-F13) | I13: =IF(OR(H13="",E13="",E13<=0),"",$B$3+H13/E13)
C14: =IF(A14="","",IFERROR(LOOKUP(2,1/('Журнал'!$B$5:$B$504=A14),'Журнал'!$A$5:$A$504),"")) | D14: =IF(A14="","",IFERROR(LOOKUP(2,1/('Журнал'!$B$5:$B$504=A14),'Журнал'!$D$5:$D$504),"")) | E14: =IF(A14="","",IFERROR(LOOKUP(2,1/(('Журнал'!$B$5:$B$504=A14)*('Журнал'!$I$5:$I$504<>"")),'Журнал'!$I$5:$I$504),"")) | F14: =IF(OR(D14="",E14=""),D14,D14+E14*MAX(0,$B$3-C14)) | G14: =IF(OR(F14="",B14=""),"",(INT(F14/B14)+1)*B14) | H14: =IF(G14="","",G14-F14) | I14: =IF(OR(H14="",E14="",E14<=0),"",$B$3+H14/E14)
C15: =IF(A15="","",IFERROR(LOOKUP(2,1/('Журнал'!$B$5:$B$504=A15),'Журнал'!$A$5:$A$504),"")) | D15: =IF(A15="","",IFERROR(LOOKUP(2,1/('Журнал'!$B$5:$B$504=A15),'Журнал'!$D$5:$D$504),"")) | E15: =IF(A15="","",IFERROR(LOOKUP(2,1/(('Журнал'!$B$5:$B$504=A15)*('Журнал'!$I$5:$I$504<>"")),'Журнал'!$I$5:$I$504),"")) | F15: =IF(OR(D15="",E15=""),D15,D15+E15*MAX(0,$B$3-C15)) | G15: =IF(OR(F15="",B15=""),"",(INT(F15/B15)+1)*B15) | H15: =IF(G15="","",G15-F15) | I15: =IF(OR(H15="",E15="",E15<=0),"",$B$3+H15/E15)
C16: =IF(A16="","",IFERROR(LOOKUP(2,1/('Журнал'!$B$5:$B$504=A16),'Журнал'!$A$5:$A$504),"")) | D16: =IF(A16="","",IFERROR(LOOKUP(2,1/('Журнал'!$B$5:$B$504=A16),'Журнал'!$D$5:$D$504),"")) | E16: =IF(A16="","",IFERROR(LOOKUP(2,1/(('Журнал'!$B$5:$B$504=A16)*('Журнал'!$I$5:$I$504<>"")),'Журнал'!$I$5:$I$504),"")) | F16: =IF(OR(D16="",E16=""),D16,D16+E16*MAX(0,$B$3-C16)) | G16: =IF(OR(F16="",B16=""),"",(INT(F16/B16)+1)*B16) | H16: =IF(G16="","",G16-F16) | I16: =IF(OR(H16="",E16="",E16<=0),"",$B$3+H16/E16)
C17: =IF(A17="","",IFERROR(LOOKUP(2,1/('Журнал'!$B$5:$B$504=A17),'Журнал'!$A$5:$A$504),"")) | D17: =IF(A17="","",IFERROR(LOOKUP(2,1/('Журнал'!$B$5:$B$504=A17),'Журнал'!$D$5:$D$504),"")) | E17: =IF(A17="","",IFERROR(LOOKUP(2,1/(('Журнал'!$B$5:$B$504=A17)*('Журнал'!$I$5:$I$504<>"")),'Журнал'!$I$5:$I$504),"")) | F17: =IF(OR(D17="",E17=""),D17,D17+E17*MAX(0,$B$3-C17)) | G17: =IF(OR(F17="",B17=""),"",(INT(F17/B17)+1)*B17) | H17: =IF(G17="","",G17-F17) | I17: =IF(OR(H17="",E17="",E17<=0),"",$B$3+H17/E17)
C18: =IF(A18="","",IFERROR(LOOKUP(2,1/('Журнал'!$B$5:$B$504=A18),'Журнал'!$A$5:$A$504),"")) | D18: =IF(A18="","",IFERROR(LOOKUP(2,1/('Журнал'!$B$5:$B$504=A18),'Журнал'!$D$5:$D$504),"")) | E18: =IF(A18="","",IFERROR(LOOKUP(2,1/(('Журнал'!$B$5:$B$504=A18)*('Журнал'!$I$5:$I$504<>"")),'Журнал'!$I$5:$I$504),"")) | F18: =IF(OR(D18="",E18=""),D18,D18+E18*MAX(0,$B$3-C18)) | G18: =IF(OR(F18="",B18=""),"",(INT(F18/B18)+1)*B18) | H18: =IF(G18="","",G18-F18) | I18: =IF(OR(H18="",E18="",E18<=0),"",$B$3+H18/E18)
C19: =IF(A19="","",IFERROR(LOOKUP(2,1/('Журнал'!$B$5:$B$504=A19),'Журнал'!$A$5:$A$504),"")) | D19: =IF(A19="","",IFERROR(LOOKUP(2,1/('Журнал'!$B$5:$B$504=A19),'Журнал'!$D$5:$D$504),"")) | E19: =IF(A19="","",IFERROR(LOOKUP(2,1/(('Журнал'!$B$5:$B$504=A19)*('Журнал'!$I$5:$I$504<>"")),'Журнал'!$I$5:$I$504),"")) | F19: =IF(OR(D19="",E19=""),D19,D19+E19*MAX(0,$B$3-C19)) | G19: =IF(OR(F19="",B19=""),"",(INT(F19/B19)+1)*B19) | H19: =IF(G19="","",G19-F19) | I19: =IF(OR(H19="",E19="",E19<=0),"",$B$3+H19/E19)
... C105: =IF(A105="","",IFERROR(LOOKUP(2,1/('Журнал'!$B$5:$B$504=A105),'Журнал'!$A$5:$A$504),"")) | D105: =IF(A105="","",IFERROR(LOOKUP(2,1/('Журнал'!$B$5:$B$504=A105),'Журнал'!$D$5:$D$504),"")) | E105: =IF(A105="","",IFERROR(LOOKUP(2,1/(('Журнал'!$B$5:$B$504=A105)*('Журнал'!$I$5:$I$504<>"")),'Журнал'!$I$5:$I$504),"")) | F105: =IF(OR(D105="",E105=""),D105,D105+E105*MAX(0,$B$3-C105)) | G105: =IF(OR(F105="",B105=""),"",(INT(F105/B105)+1)*B105) | H105: =IF(G105="","",G105-F105) | I105: =IF(OR(H105="",E105="",E105<=0),"",$B$3+H105/E105)

Sheet Как пользоваться
A1: Как вести журнал моточасов
A2: Grada — CRM с ИИ-помощником для дилеров спецтехники · gradacrm.ru
A4: 1. | B4: Каждый замер — новая строка на листе «Журнал», по порядку дат. Машину пишите всегда одинаково: модель и заводской номер или VIN — иначе журнал не свяжет замеры.
A5: 2. | B5: Отмечайте, кто снял показание и как: фото счётчика и осмотр надёжнее, чем «со слов».
A6: 3. | B6: Колонка «Проверка» подсветит ошибку: показание меньше прошлого (заменили счётчик или опечатка) или больше 24 моточасов в сутки.
A7: 4. | B7: На листе «Машины» впишите машину так же, как в журнале, и интервал ТО — увидите наработку сегодня, следующее ТО и ориентир даты.
A8: 5. | B8: Снимайте показания хотя бы раз в месяц, у машин в интенсивной работе — раз в неделю, и обязательно на каждом ТО и осмотре.
A9: 6. | B9: Подробно — в статье «Учёт моточасов спецтехники»: gradacrm.ru/stati/uchet-motochasov/; про ТО — gradacrm.ru/stati/to-po-motochasam/
