Workbook

Sheet Клиенты
A1: Ритм касаний с клиентами
A2: Жёлтые ячейки заполняете вы, зелёные считаются сами. Grada — CRM с ИИ-помощником для дилеров спецтехники · gradacrm.ru
A3: Сегодня: | B3: =TODAY()
A5: Клиент | B5: Класс | C5: Ответственный | D5: Последнее касание: техника | E5: Последнее касание: сервис | F5: Последнее касание: запчасти | G5: Дней без касания: техника | H5: Дней без касания: сервис | I5: Дней без касания: запчасти | J5: Статус | K5: Следующий повод для звонка
A6: ООО «Горный берег» | B6: Ключевые | C6: Иванов | D6: 46277 | E6: 46236 | F6: 46290 | G6: =IF(OR($A6="",D6=""),"",$B$3-D6) | H6: =IF(OR($A6="",E6=""),"",$B$3-E6) | I6: =IF(OR($A6="",F6=""),"",$B$3-F6) | J6: =IF(OR($A6="",$B6=""),"",IFERROR(IF(IF(OR(D6="",G6>VLOOKUP($B6,'Нормы'!$A$5:$D$20,2,FALSE)),"техника, ","")&IF(OR(E6="",H6>VLOOKUP($B6,'Нормы'!$A$5:$D$20,3,FALSE)),"сервис, ","")&IF(OR(F6="",I6>VLOOKUP($B6,'Нормы'!$A$5:$D$20,4,FALSE)),"запчасти, ","")="","В норме","Просрочено: "&LEFT(IF(OR(D6="",G6>VLOOKUP($B6,'Нормы'!$A$5:$D$20,2,FALSE)),"техника, ","")&IF(OR(E6="",H6>VLOOKUP($B6,'Нормы'!$A$5:$D$20,3,FALSE)),"сервис, ","")&IF(OR(F6="",I6>VLOOKUP($B6,'Нормы'!$A$5:$D$20,4,FALSE)),"запчасти, ",""),LEN(IF(OR(D6="",G6>VLOOKUP($B6,'Нормы'!$A$5:$D$20,2,FALSE)),"техника, ","")&IF(OR(E6="",H6>VLOOKUP($B6,'Нормы'!$A$5:$D$20,3,FALSE)),"сервис, ","")&IF(OR(F6="",I6>VLOOKUP($B6,'Нормы'!$A$5:$D$20,4,FALSE)),"запчасти, ",""))-2)),"Проверьте класс")) | K6: Скоро ТО-2000 на погрузчике
A7: ООО «Лесной массив» | B7: Основные | C7: Петров | D7: 46122 | E7: 46249 | F7: 46266 | G7: =IF(OR($A7="",D7=""),"",$B$3-D7) | H7: =IF(OR($A7="",E7=""),"",$B$3-E7) | I7: =IF(OR($A7="",F7=""),"",$B$3-F7) | J7: =IF(OR($A7="",$B7=""),"",IFERROR(IF(IF(OR(D7="",G7>VLOOKUP($B7,'Нормы'!$A$5:$D$20,2,FALSE)),"техника, ","")&IF(OR(E7="",H7>VLOOKUP($B7,'Нормы'!$A$5:$D$20,3,FALSE)),"сервис, ","")&IF(OR(F7="",I7>VLOOKUP($B7,'Нормы'!$A$5:$D$20,4,FALSE)),"запчасти, ","")="","В норме","Просрочено: "&LEFT(IF(OR(D7="",G7>VLOOKUP($B7,'Нормы'!$A$5:$D$20,2,FALSE)),"техника, ","")&IF(OR(E7="",H7>VLOOKUP($B7,'Нормы'!$A$5:$D$20,3,FALSE)),"сервис, ","")&IF(OR(F7="",I7>VLOOKUP($B7,'Нормы'!$A$5:$D$20,4,FALSE)),"запчасти, ",""),LEN(IF(OR(D7="",G7>VLOOKUP($B7,'Нормы'!$A$5:$D$20,2,FALSE)),"техника, ","")&IF(OR(E7="",H7>VLOOKUP($B7,'Нормы'!$A$5:$D$20,3,FALSE)),"сервис, ","")&IF(OR(F7="",I7>VLOOKUP($B7,'Нормы'!$A$5:$D$20,4,FALSE)),"запчасти, ",""))-2)),"Проверьте класс")) | K7: Харвестер 2021 года — узнать планы на обновление
A8: ООО «СтройДор» | B8: Малые | C8: Сидорова | D8: 46193 | E8: 46213 | F8: 46270 | G8: =IF(OR($A8="",D8=""),"",$B$3-D8) | H8: =IF(OR($A8="",E8=""),"",$B$3-E8) | I8: =IF(OR($A8="",F8=""),"",$B$3-F8) | J8: =IF(OR($A8="",$B8=""),"",IFERROR(IF(IF(OR(D8="",G8>VLOOKUP($B8,'Нормы'!$A$5:$D$20,2,FALSE)),"техника, ","")&IF(OR(E8="",H8>VLOOKUP($B8,'Нормы'!$A$5:$D$20,3,FALSE)),"сервис, ","")&IF(OR(F8="",I8>VLOOKUP($B8,'Нормы'!$A$5:$D$20,4,FALSE)),"запчасти, ","")="","В норме","Просрочено: "&LEFT(IF(OR(D8="",G8>VLOOKUP($B8,'Нормы'!$A$5:$D$20,2,FALSE)),"техника, ","")&IF(OR(E8="",H8>VLOOKUP($B8,'Нормы'!$A$5:$D$20,3,FALSE)),"сервис, ","")&IF(OR(F8="",I8>VLOOKUP($B8,'Нормы'!$A$5:$D$20,4,FALSE)),"запчасти, ",""),LEN(IF(OR(D8="",G8>VLOOKUP($B8,'Нормы'!$A$5:$D$20,2,FALSE)),"техника, ","")&IF(OR(E8="",H8>VLOOKUP($B8,'Нормы'!$A$5:$D$20,3,FALSE)),"сервис, ","")&IF(OR(F8="",I8>VLOOKUP($B8,'Нормы'!$A$5:$D$20,4,FALSE)),"запчасти, ",""))-2)),"Проверьте класс"))
A9: ИП Кузнецов | B9: Основные | C9: Иванов | F9: 46156 | G9: =IF(OR($A9="",D9=""),"",$B$3-D9) | H9: =IF(OR($A9="",E9=""),"",$B$3-E9) | I9: =IF(OR($A9="",F9=""),"",$B$3-F9) | J9: =IF(OR($A9="",$B9=""),"",IFERROR(IF(IF(OR(D9="",G9>VLOOKUP($B9,'Нормы'!$A$5:$D$20,2,FALSE)),"техника, ","")&IF(OR(E9="",H9>VLOOKUP($B9,'Нормы'!$A$5:$D$20,3,FALSE)),"сервис, ","")&IF(OR(F9="",I9>VLOOKUP($B9,'Нормы'!$A$5:$D$20,4,FALSE)),"запчасти, ","")="","В норме","Просрочено: "&LEFT(IF(OR(D9="",G9>VLOOKUP($B9,'Нормы'!$A$5:$D$20,2,FALSE)),"техника, ","")&IF(OR(E9="",H9>VLOOKUP($B9,'Нормы'!$A$5:$D$20,3,FALSE)),"сервис, ","")&IF(OR(F9="",I9>VLOOKUP($B9,'Нормы'!$A$5:$D$20,4,FALSE)),"запчасти, ",""),LEN(IF(OR(D9="",G9>VLOOKUP($B9,'Нормы'!$A$5:$D$20,2,FALSE)),"техника, ","")&IF(OR(E9="",H9>VLOOKUP($B9,'Нормы'!$A$5:$D$20,3,FALSE)),"сервис, ","")&IF(OR(F9="",I9>VLOOKUP($B9,'Нормы'!$A$5:$D$20,4,FALSE)),"запчасти, ",""))-2)),"Проверьте класс")) | K9: Пауза в закупках запчастей — позвонить
G10: =IF(OR($A10="",D10=""),"",$B$3-D10) | H10: =IF(OR($A10="",E10=""),"",$B$3-E10) | I10: =IF(OR($A10="",F10=""),"",$B$3-F10) | J10: =IF(OR($A10="",$B10=""),"",IFERROR(IF(IF(OR(D10="",G10>VLOOKUP($B10,'Нормы'!$A$5:$D$20,2,FALSE)),"техника, ","")&IF(OR(E10="",H10>VLOOKUP($B10,'Нормы'!$A$5:$D$20,3,FALSE)),"сервис, ","")&IF(OR(F10="",I10>VLOOKUP($B10,'Нормы'!$A$5:$D$20,4,FALSE)),"запчасти, ","")="","В норме","Просрочено: "&LEFT(IF(OR(D10="",G10>VLOOKUP($B10,'Нормы'!$A$5:$D$20,2,FALSE)),"техника, ","")&IF(OR(E10="",H10>VLOOKUP($B10,'Нормы'!$A$5:$D$20,3,FALSE)),"сервис, ","")&IF(OR(F10="",I10>VLOOKUP($B10,'Нормы'!$A$5:$D$20,4,FALSE)),"запчасти, ",""),LEN(IF(OR(D10="",G10>VLOOKUP($B10,'Нормы'!$A$5:$D$20,2,FALSE)),"техника, ","")&IF(OR(E10="",H10>VLOOKUP($B10,'Нормы'!$A$5:$D$20,3,FALSE)),"сервис, ","")&IF(OR(F10="",I10>VLOOKUP($B10,'Нормы'!$A$5:$D$20,4,FALSE)),"запчасти, ",""))-2)),"Проверьте класс"))
G11: =IF(OR($A11="",D11=""),"",$B$3-D11) | H11: =IF(OR($A11="",E11=""),"",$B$3-E11) | I11: =IF(OR($A11="",F11=""),"",$B$3-F11) | J11: =IF(OR($A11="",$B11=""),"",IFERROR(IF(IF(OR(D11="",G11>VLOOKUP($B11,'Нормы'!$A$5:$D$20,2,FALSE)),"техника, ","")&IF(OR(E11="",H11>VLOOKUP($B11,'Нормы'!$A$5:$D$20,3,FALSE)),"сервис, ","")&IF(OR(F11="",I11>VLOOKUP($B11,'Нормы'!$A$5:$D$20,4,FALSE)),"запчасти, ","")="","В норме","Просрочено: "&LEFT(IF(OR(D11="",G11>VLOOKUP($B11,'Нормы'!$A$5:$D$20,2,FALSE)),"техника, ","")&IF(OR(E11="",H11>VLOOKUP($B11,'Нормы'!$A$5:$D$20,3,FALSE)),"сервис, ","")&IF(OR(F11="",I11>VLOOKUP($B11,'Нормы'!$A$5:$D$20,4,FALSE)),"запчасти, ",""),LEN(IF(OR(D11="",G11>VLOOKUP($B11,'Нормы'!$A$5:$D$20,2,FALSE)),"техника, ","")&IF(OR(E11="",H11>VLOOKUP($B11,'Нормы'!$A$5:$D$20,3,FALSE)),"сервис, ","")&IF(OR(F11="",I11>VLOOKUP($B11,'Нормы'!$A$5:$D$20,4,FALSE)),"запчасти, ",""))-2)),"Проверьте класс"))
G12: =IF(OR($A12="",D12=""),"",$B$3-D12) | H12: =IF(OR($A12="",E12=""),"",$B$3-E12) | I12: =IF(OR($A12="",F12=""),"",$B$3-F12) | J12: =IF(OR($A12="",$B12=""),"",IFERROR(IF(IF(OR(D12="",G12>VLOOKUP($B12,'Нормы'!$A$5:$D$20,2,FALSE)),"техника, ","")&IF(OR(E12="",H12>VLOOKUP($B12,'Нормы'!$A$5:$D$20,3,FALSE)),"сервис, ","")&IF(OR(F12="",I12>VLOOKUP($B12,'Нормы'!$A$5:$D$20,4,FALSE)),"запчасти, ","")="","В норме","Просрочено: "&LEFT(IF(OR(D12="",G12>VLOOKUP($B12,'Нормы'!$A$5:$D$20,2,FALSE)),"техника, ","")&IF(OR(E12="",H12>VLOOKUP($B12,'Нормы'!$A$5:$D$20,3,FALSE)),"сервис, ","")&IF(OR(F12="",I12>VLOOKUP($B12,'Нормы'!$A$5:$D$20,4,FALSE)),"запчасти, ",""),LEN(IF(OR(D12="",G12>VLOOKUP($B12,'Нормы'!$A$5:$D$20,2,FALSE)),"техника, ","")&IF(OR(E12="",H12>VLOOKUP($B12,'Нормы'!$A$5:$D$20,3,FALSE)),"сервис, ","")&IF(OR(F12="",I12>VLOOKUP($B12,'Нормы'!$A$5:$D$20,4,FALSE)),"запчасти, ",""))-2)),"Проверьте класс"))
G13: =IF(OR($A13="",D13=""),"",$B$3-D13) | H13: =IF(OR($A13="",E13=""),"",$B$3-E13) | I13: =IF(OR($A13="",F13=""),"",$B$3-F13) | J13: =IF(OR($A13="",$B13=""),"",IFERROR(IF(IF(OR(D13="",G13>VLOOKUP($B13,'Нормы'!$A$5:$D$20,2,FALSE)),"техника, ","")&IF(OR(E13="",H13>VLOOKUP($B13,'Нормы'!$A$5:$D$20,3,FALSE)),"сервис, ","")&IF(OR(F13="",I13>VLOOKUP($B13,'Нормы'!$A$5:$D$20,4,FALSE)),"запчасти, ","")="","В норме","Просрочено: "&LEFT(IF(OR(D13="",G13>VLOOKUP($B13,'Нормы'!$A$5:$D$20,2,FALSE)),"техника, ","")&IF(OR(E13="",H13>VLOOKUP($B13,'Нормы'!$A$5:$D$20,3,FALSE)),"сервис, ","")&IF(OR(F13="",I13>VLOOKUP($B13,'Нормы'!$A$5:$D$20,4,FALSE)),"запчасти, ",""),LEN(IF(OR(D13="",G13>VLOOKUP($B13,'Нормы'!$A$5:$D$20,2,FALSE)),"техника, ","")&IF(OR(E13="",H13>VLOOKUP($B13,'Нормы'!$A$5:$D$20,3,FALSE)),"сервис, ","")&IF(OR(F13="",I13>VLOOKUP($B13,'Нормы'!$A$5:$D$20,4,FALSE)),"запчасти, ",""))-2)),"Проверьте класс"))
G14: =IF(OR($A14="",D14=""),"",$B$3-D14) | H14: =IF(OR($A14="",E14=""),"",$B$3-E14) | I14: =IF(OR($A14="",F14=""),"",$B$3-F14) | J14: =IF(OR($A14="",$B14=""),"",IFERROR(IF(IF(OR(D14="",G14>VLOOKUP($B14,'Нормы'!$A$5:$D$20,2,FALSE)),"техника, ","")&IF(OR(E14="",H14>VLOOKUP($B14,'Нормы'!$A$5:$D$20,3,FALSE)),"сервис, ","")&IF(OR(F14="",I14>VLOOKUP($B14,'Нормы'!$A$5:$D$20,4,FALSE)),"запчасти, ","")="","В норме","Просрочено: "&LEFT(IF(OR(D14="",G14>VLOOKUP($B14,'Нормы'!$A$5:$D$20,2,FALSE)),"техника, ","")&IF(OR(E14="",H14>VLOOKUP($B14,'Нормы'!$A$5:$D$20,3,FALSE)),"сервис, ","")&IF(OR(F14="",I14>VLOOKUP($B14,'Нормы'!$A$5:$D$20,4,FALSE)),"запчасти, ",""),LEN(IF(OR(D14="",G14>VLOOKUP($B14,'Нормы'!$A$5:$D$20,2,FALSE)),"техника, ","")&IF(OR(E14="",H14>VLOOKUP($B14,'Нормы'!$A$5:$D$20,3,FALSE)),"сервис, ","")&IF(OR(F14="",I14>VLOOKUP($B14,'Нормы'!$A$5:$D$20,4,FALSE)),"запчасти, ",""))-2)),"Проверьте класс"))
G15: =IF(OR($A15="",D15=""),"",$B$3-D15) | H15: =IF(OR($A15="",E15=""),"",$B$3-E15) | I15: =IF(OR($A15="",F15=""),"",$B$3-F15) | J15: =IF(OR($A15="",$B15=""),"",IFERROR(IF(IF(OR(D15="",G15>VLOOKUP($B15,'Нормы'!$A$5:$D$20,2,FALSE)),"техника, ","")&IF(OR(E15="",H15>VLOOKUP($B15,'Нормы'!$A$5:$D$20,3,FALSE)),"сервис, ","")&IF(OR(F15="",I15>VLOOKUP($B15,'Нормы'!$A$5:$D$20,4,FALSE)),"запчасти, ","")="","В норме","Просрочено: "&LEFT(IF(OR(D15="",G15>VLOOKUP($B15,'Нормы'!$A$5:$D$20,2,FALSE)),"техника, ","")&IF(OR(E15="",H15>VLOOKUP($B15,'Нормы'!$A$5:$D$20,3,FALSE)),"сервис, ","")&IF(OR(F15="",I15>VLOOKUP($B15,'Нормы'!$A$5:$D$20,4,FALSE)),"запчасти, ",""),LEN(IF(OR(D15="",G15>VLOOKUP($B15,'Нормы'!$A$5:$D$20,2,FALSE)),"техника, ","")&IF(OR(E15="",H15>VLOOKUP($B15,'Нормы'!$A$5:$D$20,3,FALSE)),"сервис, ","")&IF(OR(F15="",I15>VLOOKUP($B15,'Нормы'!$A$5:$D$20,4,FALSE)),"запчасти, ",""))-2)),"Проверьте класс"))
G16: =IF(OR($A16="",D16=""),"",$B$3-D16) | H16: =IF(OR($A16="",E16=""),"",$B$3-E16) | I16: =IF(OR($A16="",F16=""),"",$B$3-F16) | J16: =IF(OR($A16="",$B16=""),"",IFERROR(IF(IF(OR(D16="",G16>VLOOKUP($B16,'Нормы'!$A$5:$D$20,2,FALSE)),"техника, ","")&IF(OR(E16="",H16>VLOOKUP($B16,'Нормы'!$A$5:$D$20,3,FALSE)),"сервис, ","")&IF(OR(F16="",I16>VLOOKUP($B16,'Нормы'!$A$5:$D$20,4,FALSE)),"запчасти, ","")="","В норме","Просрочено: "&LEFT(IF(OR(D16="",G16>VLOOKUP($B16,'Нормы'!$A$5:$D$20,2,FALSE)),"техника, ","")&IF(OR(E16="",H16>VLOOKUP($B16,'Нормы'!$A$5:$D$20,3,FALSE)),"сервис, ","")&IF(OR(F16="",I16>VLOOKUP($B16,'Нормы'!$A$5:$D$20,4,FALSE)),"запчасти, ",""),LEN(IF(OR(D16="",G16>VLOOKUP($B16,'Нормы'!$A$5:$D$20,2,FALSE)),"техника, ","")&IF(OR(E16="",H16>VLOOKUP($B16,'Нормы'!$A$5:$D$20,3,FALSE)),"сервис, ","")&IF(OR(F16="",I16>VLOOKUP($B16,'Нормы'!$A$5:$D$20,4,FALSE)),"запчасти, ",""))-2)),"Проверьте класс"))
G17: =IF(OR($A17="",D17=""),"",$B$3-D17) | H17: =IF(OR($A17="",E17=""),"",$B$3-E17) | I17: =IF(OR($A17="",F17=""),"",$B$3-F17) | J17: =IF(OR($A17="",$B17=""),"",IFERROR(IF(IF(OR(D17="",G17>VLOOKUP($B17,'Нормы'!$A$5:$D$20,2,FALSE)),"техника, ","")&IF(OR(E17="",H17>VLOOKUP($B17,'Нормы'!$A$5:$D$20,3,FALSE)),"сервис, ","")&IF(OR(F17="",I17>VLOOKUP($B17,'Нормы'!$A$5:$D$20,4,FALSE)),"запчасти, ","")="","В норме","Просрочено: "&LEFT(IF(OR(D17="",G17>VLOOKUP($B17,'Нормы'!$A$5:$D$20,2,FALSE)),"техника, ","")&IF(OR(E17="",H17>VLOOKUP($B17,'Нормы'!$A$5:$D$20,3,FALSE)),"сервис, ","")&IF(OR(F17="",I17>VLOOKUP($B17,'Нормы'!$A$5:$D$20,4,FALSE)),"запчасти, ",""),LEN(IF(OR(D17="",G17>VLOOKUP($B17,'Нормы'!$A$5:$D$20,2,FALSE)),"техника, ","")&IF(OR(E17="",H17>VLOOKUP($B17,'Нормы'!$A$5:$D$20,3,FALSE)),"сервис, ","")&IF(OR(F17="",I17>VLOOKUP($B17,'Нормы'!$A$5:$D$20,4,FALSE)),"запчасти, ",""))-2)),"Проверьте класс"))
G18: =IF(OR($A18="",D18=""),"",$B$3-D18) | H18: =IF(OR($A18="",E18=""),"",$B$3-E18) | I18: =IF(OR($A18="",F18=""),"",$B$3-F18) | J18: =IF(OR($A18="",$B18=""),"",IFERROR(IF(IF(OR(D18="",G18>VLOOKUP($B18,'Нормы'!$A$5:$D$20,2,FALSE)),"техника, ","")&IF(OR(E18="",H18>VLOOKUP($B18,'Нормы'!$A$5:$D$20,3,FALSE)),"сервис, ","")&IF(OR(F18="",I18>VLOOKUP($B18,'Нормы'!$A$5:$D$20,4,FALSE)),"запчасти, ","")="","В норме","Просрочено: "&LEFT(IF(OR(D18="",G18>VLOOKUP($B18,'Нормы'!$A$5:$D$20,2,FALSE)),"техника, ","")&IF(OR(E18="",H18>VLOOKUP($B18,'Нормы'!$A$5:$D$20,3,FALSE)),"сервис, ","")&IF(OR(F18="",I18>VLOOKUP($B18,'Нормы'!$A$5:$D$20,4,FALSE)),"запчасти, ",""),LEN(IF(OR(D18="",G18>VLOOKUP($B18,'Нормы'!$A$5:$D$20,2,FALSE)),"техника, ","")&IF(OR(E18="",H18>VLOOKUP($B18,'Нормы'!$A$5:$D$20,3,FALSE)),"сервис, ","")&IF(OR(F18="",I18>VLOOKUP($B18,'Нормы'!$A$5:$D$20,4,FALSE)),"запчасти, ",""))-2)),"Проверьте класс"))
G19: =IF(OR($A19="",D19=""),"",$B$3-D19) | H19: =IF(OR($A19="",E19=""),"",$B$3-E19) | I19: =IF(OR($A19="",F19=""),"",$B$3-F19) | J19: =IF(OR($A19="",$B19=""),"",IFERROR(IF(IF(OR(D19="",G19>VLOOKUP($B19,'Нормы'!$A$5:$D$20,2,FALSE)),"техника, ","")&IF(OR(E19="",H19>VLOOKUP($B19,'Нормы'!$A$5:$D$20,3,FALSE)),"сервис, ","")&IF(OR(F19="",I19>VLOOKUP($B19,'Нормы'!$A$5:$D$20,4,FALSE)),"запчасти, ","")="","В норме","Просрочено: "&LEFT(IF(OR(D19="",G19>VLOOKUP($B19,'Нормы'!$A$5:$D$20,2,FALSE)),"техника, ","")&IF(OR(E19="",H19>VLOOKUP($B19,'Нормы'!$A$5:$D$20,3,FALSE)),"сервис, ","")&IF(OR(F19="",I19>VLOOKUP($B19,'Нормы'!$A$5:$D$20,4,FALSE)),"запчасти, ",""),LEN(IF(OR(D19="",G19>VLOOKUP($B19,'Нормы'!$A$5:$D$20,2,FALSE)),"техника, ","")&IF(OR(E19="",H19>VLOOKUP($B19,'Нормы'!$A$5:$D$20,3,FALSE)),"сервис, ","")&IF(OR(F19="",I19>VLOOKUP($B19,'Нормы'!$A$5:$D$20,4,FALSE)),"запчасти, ",""))-2)),"Проверьте класс"))
G20: =IF(OR($A20="",D20=""),"",$B$3-D20) | H20: =IF(OR($A20="",E20=""),"",$B$3-E20) | I20: =IF(OR($A20="",F20=""),"",$B$3-F20) | J20: =IF(OR($A20="",$B20=""),"",IFERROR(IF(IF(OR(D20="",G20>VLOOKUP($B20,'Нормы'!$A$5:$D$20,2,FALSE)),"техника, ","")&IF(OR(E20="",H20>VLOOKUP($B20,'Нормы'!$A$5:$D$20,3,FALSE)),"сервис, ","")&IF(OR(F20="",I20>VLOOKUP($B20,'Нормы'!$A$5:$D$20,4,FALSE)),"запчасти, ","")="","В норме","Просрочено: "&LEFT(IF(OR(D20="",G20>VLOOKUP($B20,'Нормы'!$A$5:$D$20,2,FALSE)),"техника, ","")&IF(OR(E20="",H20>VLOOKUP($B20,'Нормы'!$A$5:$D$20,3,FALSE)),"сервис, ","")&IF(OR(F20="",I20>VLOOKUP($B20,'Нормы'!$A$5:$D$20,4,FALSE)),"запчасти, ",""),LEN(IF(OR(D20="",G20>VLOOKUP($B20,'Нормы'!$A$5:$D$20,2,FALSE)),"техника, ","")&IF(OR(E20="",H20>VLOOKUP($B20,'Нормы'!$A$5:$D$20,3,FALSE)),"сервис, ","")&IF(OR(F20="",I20>VLOOKUP($B20,'Нормы'!$A$5:$D$20,4,FALSE)),"запчасти, ",""))-2)),"Проверьте класс"))
G21: =IF(OR($A21="",D21=""),"",$B$3-D21) | H21: =IF(OR($A21="",E21=""),"",$B$3-E21) | I21: =IF(OR($A21="",F21=""),"",$B$3-F21) | J21: =IF(OR($A21="",$B21=""),"",IFERROR(IF(IF(OR(D21="",G21>VLOOKUP($B21,'Нормы'!$A$5:$D$20,2,FALSE)),"техника, ","")&IF(OR(E21="",H21>VLOOKUP($B21,'Нормы'!$A$5:$D$20,3,FALSE)),"сервис, ","")&IF(OR(F21="",I21>VLOOKUP($B21,'Нормы'!$A$5:$D$20,4,FALSE)),"запчасти, ","")="","В норме","Просрочено: "&LEFT(IF(OR(D21="",G21>VLOOKUP($B21,'Нормы'!$A$5:$D$20,2,FALSE)),"техника, ","")&IF(OR(E21="",H21>VLOOKUP($B21,'Нормы'!$A$5:$D$20,3,FALSE)),"сервис, ","")&IF(OR(F21="",I21>VLOOKUP($B21,'Нормы'!$A$5:$D$20,4,FALSE)),"запчасти, ",""),LEN(IF(OR(D21="",G21>VLOOKUP($B21,'Нормы'!$A$5:$D$20,2,FALSE)),"техника, ","")&IF(OR(E21="",H21>VLOOKUP($B21,'Нормы'!$A$5:$D$20,3,FALSE)),"сервис, ","")&IF(OR(F21="",I21>VLOOKUP($B21,'Нормы'!$A$5:$D$20,4,FALSE)),"запчасти, ",""))-2)),"Проверьте класс"))
... G305: =IF(OR($A305="",D305=""),"",$B$3-D305) | H305: =IF(OR($A305="",E305=""),"",$B$3-E305) | I305: =IF(OR($A305="",F305=""),"",$B$3-F305) | J305: =IF(OR($A305="",$B305=""),"",IFERROR(IF(IF(OR(D305="",G305>VLOOKUP($B305,'Нормы'!$A$5:$D$20,2,FALSE)),"техника, ","")&IF(OR(E305="",H305>VLOOKUP($B305,'Нормы'!$A$5:$D$20,3,FALSE)),"сервис, ","")&IF(OR(F305="",I305>VLOOKUP($B305,'Нормы'!$A$5:$D$20,4,FALSE)),"запчасти, ","")="","В норме","Просрочено: "&LEFT(IF(OR(D305="",G305>VLOOKUP($B305,'Нормы'!$A$5:$D$20,2,FALSE)),"техника, ","")&IF(OR(E305="",H305>VLOOKUP($B305,'Нормы'!$A$5:$D$20,3,FALSE)),"сервис, ","")&IF(OR(F305="",I305>VLOOKUP($B305,'Нормы'!$A$5:$D$20,4,FALSE)),"запчасти, ",""),LEN(IF(OR(D305="",G305>VLOOKUP($B305,'Нормы'!$A$5:$D$20,2,FALSE)),"техника, ","")&IF(OR(E305="",H305>VLOOKUP($B305,'Нормы'!$A$5:$D$20,3,FALSE)),"сервис, ","")&IF(OR(F305="",I305>VLOOKUP($B305,'Нормы'!$A$5:$D$20,4,FALSE)),"запчасти, ",""))-2)),"Проверьте класс"))

Sheet Нормы
A1: Нормы касаний по классам клиентов
A2: Не реже какого срока говорить с клиентом, дней. Цифры — пример, подберите свои. Grada — CRM с ИИ-помощником для дилеров спецтехники · gradacrm.ru
A4: Класс | B4: Техника, дней | C4: Сервис, дней | D4: Запчасти, дней | E4: Кто это
A5: Ключевые | B5: 30 | C5: 30 | D5: 30 | E5: Приносят больше всего денег — обычно их немного
A6: Основные | B6: 90 | C6: 60 | D6: 60 | E6: Регулярные клиенты
A7: Малые | B7: 180 | C7: 120 | D7: 120 | E7: Редкие покупки

Sheet Как пользоваться
A1: Как держать ритм касаний
A2: Grada — CRM с ИИ-помощником для дилеров спецтехники · gradacrm.ru
A4: 1. | B4: На листе «Нормы» задайте классы клиентов и сроки: не реже скольких дней говорить с клиентом о технике, сервисе и запчастях. Начните с ключевых клиентов.
A5: 2. | B5: На листе «Клиенты» одна строка — один клиент. Класс выберите из списка.
A6: 3. | B6: После каждого разговора обновляйте дату последнего касания по нужному направлению. Касание — звонок, встреча, визит или письмо.
A7: 4. | B7: Статус «Просрочено» показывает, по каким направлениям давно не было разговора. Пустая дата тоже считается просрочкой: с клиентом ещё не говорили.
A8: 5. | B8: Звоните с поводом, а не «узнать, как дела»: ТО, запчасти, конец контракта, замена техники. Запишите повод в последнюю колонку.
A9: 6. | B9: Подробно — в статье «Удержание клиентов дилера спецтехники»: gradacrm.ru/stati/uderzhanie-klientov-dilera/
