Workbook

Sheet График
A1: График ТО по моточасам
A2: Жёлтые ячейки заполняете вы, зелёные считаются сами. Grada — CRM с ИИ-помощником для дилеров спецтехники · gradacrm.ru
A3: Напоминать за, дней: | B3: 14 | D3: Сегодня: | E3: =TODAY()
A5: Клиент | B5: Машина | C5: Тип техники | D5: Последний замер: дата | E5: Последний замер: м/ч | F5: Предыдущий замер: дата | G5: Предыдущий замер: м/ч | H5: Последнее ТО: дата | I5: Темп, м/ч в день | J5: Наработка сегодня (оценка) | K5: Следующее ТО на, м/ч | L5: Какое ТО | M5: Дата по моточасам | N5: Дата по календарю | O5: Ориентир даты ТО | P5: Позвонить | Q5: Статус | R5: Записан на, комментарий
A6: ООО «Горный берег» | B6: Экскаватор 40 т | C6: Экскаватор | D6: 46280 | E6: 8270 | F6: 46218 | G6: 7900 | I6: =IF(OR($C6="",D6="",E6=""),"",IF(AND(F6<>"",G6<>"",D6>F6,E6>G6),(E6-G6)/(D6-F6),IFERROR(VLOOKUP($C6,'Регламент'!$A$5:$G$40,6,FALSE)/365,""))) | J6: =IF(OR(I6="",I6<=0),"",E6+I6*MAX(0,$E$3-D6)) | K6: =IF(J6="","",IFERROR((INT(J6/VLOOKUP($C6,'Регламент'!$A$5:$G$40,2,FALSE))+1)*VLOOKUP($C6,'Регламент'!$A$5:$G$40,2,FALSE),"")) | L6: =IF(K6="","",IF(IFERROR(MOD(K6,VLOOKUP($C6,'Регламент'!$A$5:$G$40,5,FALSE)),1)=0,"ТО-"&VLOOKUP($C6,'Регламент'!$A$5:$G$40,5,FALSE),IF(IFERROR(MOD(K6,VLOOKUP($C6,'Регламент'!$A$5:$G$40,4,FALSE)),1)=0,"ТО-"&VLOOKUP($C6,'Регламент'!$A$5:$G$40,4,FALSE),IF(IFERROR(MOD(K6,VLOOKUP($C6,'Регламент'!$A$5:$G$40,3,FALSE)),1)=0,"ТО-"&VLOOKUP($C6,'Регламент'!$A$5:$G$40,3,FALSE),"ТО-"&VLOOKUP($C6,'Регламент'!$A$5:$G$40,2,FALSE))))) | M6: =IF(K6="","",$E$3+(K6-J6)/I6) | N6: =IF(H6="","",IFERROR(IF(VLOOKUP($C6,'Регламент'!$A$5:$G$40,7,FALSE)>0,EDATE(H6,VLOOKUP($C6,'Регламент'!$A$5:$G$40,7,FALSE)),""),"")) | O6: =IF(AND(M6="",N6=""),"",IF(M6="",N6,IF(N6="",M6,MIN(M6,N6)))) | P6: =IF(O6="","",O6-$B$3) | Q6: =IF(O6="","",IF(O6<$E$3,"Срок прошёл",IF(P6<=$E$3,"Звонить","По плану")))
A7: ООО «Лесной массив» | B7: Фронтальный погрузчик | C7: Фронтальный погрузчик | D7: 46285 | E7: 3910 | F7: 46193 | G7: 3270 | I7: =IF(OR($C7="",D7="",E7=""),"",IF(AND(F7<>"",G7<>"",D7>F7,E7>G7),(E7-G7)/(D7-F7),IFERROR(VLOOKUP($C7,'Регламент'!$A$5:$G$40,6,FALSE)/365,""))) | J7: =IF(OR(I7="",I7<=0),"",E7+I7*MAX(0,$E$3-D7)) | K7: =IF(J7="","",IFERROR((INT(J7/VLOOKUP($C7,'Регламент'!$A$5:$G$40,2,FALSE))+1)*VLOOKUP($C7,'Регламент'!$A$5:$G$40,2,FALSE),"")) | L7: =IF(K7="","",IF(IFERROR(MOD(K7,VLOOKUP($C7,'Регламент'!$A$5:$G$40,5,FALSE)),1)=0,"ТО-"&VLOOKUP($C7,'Регламент'!$A$5:$G$40,5,FALSE),IF(IFERROR(MOD(K7,VLOOKUP($C7,'Регламент'!$A$5:$G$40,4,FALSE)),1)=0,"ТО-"&VLOOKUP($C7,'Регламент'!$A$5:$G$40,4,FALSE),IF(IFERROR(MOD(K7,VLOOKUP($C7,'Регламент'!$A$5:$G$40,3,FALSE)),1)=0,"ТО-"&VLOOKUP($C7,'Регламент'!$A$5:$G$40,3,FALSE),"ТО-"&VLOOKUP($C7,'Регламент'!$A$5:$G$40,2,FALSE))))) | M7: =IF(K7="","",$E$3+(K7-J7)/I7) | N7: =IF(H7="","",IFERROR(IF(VLOOKUP($C7,'Регламент'!$A$5:$G$40,7,FALSE)>0,EDATE(H7,VLOOKUP($C7,'Регламент'!$A$5:$G$40,7,FALSE)),""),"")) | O7: =IF(AND(M7="",N7=""),"",IF(M7="",N7,IF(N7="",M7,MIN(M7,N7)))) | P7: =IF(O7="","",O7-$B$3) | Q7: =IF(O7="","",IF(O7<$E$3,"Срок прошёл",IF(P7<=$E$3,"Звонить","По плану")))
A8: ООО «СтройДор» | B8: Экскаватор-погрузчик | C8: Экскаватор-погрузчик | D8: 46254 | E8: 2450 | H8: 45976 | I8: =IF(OR($C8="",D8="",E8=""),"",IF(AND(F8<>"",G8<>"",D8>F8,E8>G8),(E8-G8)/(D8-F8),IFERROR(VLOOKUP($C8,'Регламент'!$A$5:$G$40,6,FALSE)/365,""))) | J8: =IF(OR(I8="",I8<=0),"",E8+I8*MAX(0,$E$3-D8)) | K8: =IF(J8="","",IFERROR((INT(J8/VLOOKUP($C8,'Регламент'!$A$5:$G$40,2,FALSE))+1)*VLOOKUP($C8,'Регламент'!$A$5:$G$40,2,FALSE),"")) | L8: =IF(K8="","",IF(IFERROR(MOD(K8,VLOOKUP($C8,'Регламент'!$A$5:$G$40,5,FALSE)),1)=0,"ТО-"&VLOOKUP($C8,'Регламент'!$A$5:$G$40,5,FALSE),IF(IFERROR(MOD(K8,VLOOKUP($C8,'Регламент'!$A$5:$G$40,4,FALSE)),1)=0,"ТО-"&VLOOKUP($C8,'Регламент'!$A$5:$G$40,4,FALSE),IF(IFERROR(MOD(K8,VLOOKUP($C8,'Регламент'!$A$5:$G$40,3,FALSE)),1)=0,"ТО-"&VLOOKUP($C8,'Регламент'!$A$5:$G$40,3,FALSE),"ТО-"&VLOOKUP($C8,'Регламент'!$A$5:$G$40,2,FALSE))))) | M8: =IF(K8="","",$E$3+(K8-J8)/I8) | N8: =IF(H8="","",IFERROR(IF(VLOOKUP($C8,'Регламент'!$A$5:$G$40,7,FALSE)>0,EDATE(H8,VLOOKUP($C8,'Регламент'!$A$5:$G$40,7,FALSE)),""),"")) | O8: =IF(AND(M8="",N8=""),"",IF(M8="",N8,IF(N8="",M8,MIN(M8,N8)))) | P8: =IF(O8="","",O8-$B$3) | Q8: =IF(O8="","",IF(O8<$E$3,"Срок прошёл",IF(P8<=$E$3,"Звонить","По плану")))
I9: =IF(OR($C9="",D9="",E9=""),"",IF(AND(F9<>"",G9<>"",D9>F9,E9>G9),(E9-G9)/(D9-F9),IFERROR(VLOOKUP($C9,'Регламент'!$A$5:$G$40,6,FALSE)/365,""))) | J9: =IF(OR(I9="",I9<=0),"",E9+I9*MAX(0,$E$3-D9)) | K9: =IF(J9="","",IFERROR((INT(J9/VLOOKUP($C9,'Регламент'!$A$5:$G$40,2,FALSE))+1)*VLOOKUP($C9,'Регламент'!$A$5:$G$40,2,FALSE),"")) | L9: =IF(K9="","",IF(IFERROR(MOD(K9,VLOOKUP($C9,'Регламент'!$A$5:$G$40,5,FALSE)),1)=0,"ТО-"&VLOOKUP($C9,'Регламент'!$A$5:$G$40,5,FALSE),IF(IFERROR(MOD(K9,VLOOKUP($C9,'Регламент'!$A$5:$G$40,4,FALSE)),1)=0,"ТО-"&VLOOKUP($C9,'Регламент'!$A$5:$G$40,4,FALSE),IF(IFERROR(MOD(K9,VLOOKUP($C9,'Регламент'!$A$5:$G$40,3,FALSE)),1)=0,"ТО-"&VLOOKUP($C9,'Регламент'!$A$5:$G$40,3,FALSE),"ТО-"&VLOOKUP($C9,'Регламент'!$A$5:$G$40,2,FALSE))))) | M9: =IF(K9="","",$E$3+(K9-J9)/I9) | N9: =IF(H9="","",IFERROR(IF(VLOOKUP($C9,'Регламент'!$A$5:$G$40,7,FALSE)>0,EDATE(H9,VLOOKUP($C9,'Регламент'!$A$5:$G$40,7,FALSE)),""),"")) | O9: =IF(AND(M9="",N9=""),"",IF(M9="",N9,IF(N9="",M9,MIN(M9,N9)))) | P9: =IF(O9="","",O9-$B$3) | Q9: =IF(O9="","",IF(O9<$E$3,"Срок прошёл",IF(P9<=$E$3,"Звонить","По плану")))
I10: =IF(OR($C10="",D10="",E10=""),"",IF(AND(F10<>"",G10<>"",D10>F10,E10>G10),(E10-G10)/(D10-F10),IFERROR(VLOOKUP($C10,'Регламент'!$A$5:$G$40,6,FALSE)/365,""))) | J10: =IF(OR(I10="",I10<=0),"",E10+I10*MAX(0,$E$3-D10)) | K10: =IF(J10="","",IFERROR((INT(J10/VLOOKUP($C10,'Регламент'!$A$5:$G$40,2,FALSE))+1)*VLOOKUP($C10,'Регламент'!$A$5:$G$40,2,FALSE),"")) | L10: =IF(K10="","",IF(IFERROR(MOD(K10,VLOOKUP($C10,'Регламент'!$A$5:$G$40,5,FALSE)),1)=0,"ТО-"&VLOOKUP($C10,'Регламент'!$A$5:$G$40,5,FALSE),IF(IFERROR(MOD(K10,VLOOKUP($C10,'Регламент'!$A$5:$G$40,4,FALSE)),1)=0,"ТО-"&VLOOKUP($C10,'Регламент'!$A$5:$G$40,4,FALSE),IF(IFERROR(MOD(K10,VLOOKUP($C10,'Регламент'!$A$5:$G$40,3,FALSE)),1)=0,"ТО-"&VLOOKUP($C10,'Регламент'!$A$5:$G$40,3,FALSE),"ТО-"&VLOOKUP($C10,'Регламент'!$A$5:$G$40,2,FALSE))))) | M10: =IF(K10="","",$E$3+(K10-J10)/I10) | N10: =IF(H10="","",IFERROR(IF(VLOOKUP($C10,'Регламент'!$A$5:$G$40,7,FALSE)>0,EDATE(H10,VLOOKUP($C10,'Регламент'!$A$5:$G$40,7,FALSE)),""),"")) | O10: =IF(AND(M10="",N10=""),"",IF(M10="",N10,IF(N10="",M10,MIN(M10,N10)))) | P10: =IF(O10="","",O10-$B$3) | Q10: =IF(O10="","",IF(O10<$E$3,"Срок прошёл",IF(P10<=$E$3,"Звонить","По плану")))
I11: =IF(OR($C11="",D11="",E11=""),"",IF(AND(F11<>"",G11<>"",D11>F11,E11>G11),(E11-G11)/(D11-F11),IFERROR(VLOOKUP($C11,'Регламент'!$A$5:$G$40,6,FALSE)/365,""))) | J11: =IF(OR(I11="",I11<=0),"",E11+I11*MAX(0,$E$3-D11)) | K11: =IF(J11="","",IFERROR((INT(J11/VLOOKUP($C11,'Регламент'!$A$5:$G$40,2,FALSE))+1)*VLOOKUP($C11,'Регламент'!$A$5:$G$40,2,FALSE),"")) | L11: =IF(K11="","",IF(IFERROR(MOD(K11,VLOOKUP($C11,'Регламент'!$A$5:$G$40,5,FALSE)),1)=0,"ТО-"&VLOOKUP($C11,'Регламент'!$A$5:$G$40,5,FALSE),IF(IFERROR(MOD(K11,VLOOKUP($C11,'Регламент'!$A$5:$G$40,4,FALSE)),1)=0,"ТО-"&VLOOKUP($C11,'Регламент'!$A$5:$G$40,4,FALSE),IF(IFERROR(MOD(K11,VLOOKUP($C11,'Регламент'!$A$5:$G$40,3,FALSE)),1)=0,"ТО-"&VLOOKUP($C11,'Регламент'!$A$5:$G$40,3,FALSE),"ТО-"&VLOOKUP($C11,'Регламент'!$A$5:$G$40,2,FALSE))))) | M11: =IF(K11="","",$E$3+(K11-J11)/I11) | N11: =IF(H11="","",IFERROR(IF(VLOOKUP($C11,'Регламент'!$A$5:$G$40,7,FALSE)>0,EDATE(H11,VLOOKUP($C11,'Регламент'!$A$5:$G$40,7,FALSE)),""),"")) | O11: =IF(AND(M11="",N11=""),"",IF(M11="",N11,IF(N11="",M11,MIN(M11,N11)))) | P11: =IF(O11="","",O11-$B$3) | Q11: =IF(O11="","",IF(O11<$E$3,"Срок прошёл",IF(P11<=$E$3,"Звонить","По плану")))
I12: =IF(OR($C12="",D12="",E12=""),"",IF(AND(F12<>"",G12<>"",D12>F12,E12>G12),(E12-G12)/(D12-F12),IFERROR(VLOOKUP($C12,'Регламент'!$A$5:$G$40,6,FALSE)/365,""))) | J12: =IF(OR(I12="",I12<=0),"",E12+I12*MAX(0,$E$3-D12)) | K12: =IF(J12="","",IFERROR((INT(J12/VLOOKUP($C12,'Регламент'!$A$5:$G$40,2,FALSE))+1)*VLOOKUP($C12,'Регламент'!$A$5:$G$40,2,FALSE),"")) | L12: =IF(K12="","",IF(IFERROR(MOD(K12,VLOOKUP($C12,'Регламент'!$A$5:$G$40,5,FALSE)),1)=0,"ТО-"&VLOOKUP($C12,'Регламент'!$A$5:$G$40,5,FALSE),IF(IFERROR(MOD(K12,VLOOKUP($C12,'Регламент'!$A$5:$G$40,4,FALSE)),1)=0,"ТО-"&VLOOKUP($C12,'Регламент'!$A$5:$G$40,4,FALSE),IF(IFERROR(MOD(K12,VLOOKUP($C12,'Регламент'!$A$5:$G$40,3,FALSE)),1)=0,"ТО-"&VLOOKUP($C12,'Регламент'!$A$5:$G$40,3,FALSE),"ТО-"&VLOOKUP($C12,'Регламент'!$A$5:$G$40,2,FALSE))))) | M12: =IF(K12="","",$E$3+(K12-J12)/I12) | N12: =IF(H12="","",IFERROR(IF(VLOOKUP($C12,'Регламент'!$A$5:$G$40,7,FALSE)>0,EDATE(H12,VLOOKUP($C12,'Регламент'!$A$5:$G$40,7,FALSE)),""),"")) | O12: =IF(AND(M12="",N12=""),"",IF(M12="",N12,IF(N12="",M12,MIN(M12,N12)))) | P12: =IF(O12="","",O12-$B$3) | Q12: =IF(O12="","",IF(O12<$E$3,"Срок прошёл",IF(P12<=$E$3,"Звонить","По плану")))
I13: =IF(OR($C13="",D13="",E13=""),"",IF(AND(F13<>"",G13<>"",D13>F13,E13>G13),(E13-G13)/(D13-F13),IFERROR(VLOOKUP($C13,'Регламент'!$A$5:$G$40,6,FALSE)/365,""))) | J13: =IF(OR(I13="",I13<=0),"",E13+I13*MAX(0,$E$3-D13)) | K13: =IF(J13="","",IFERROR((INT(J13/VLOOKUP($C13,'Регламент'!$A$5:$G$40,2,FALSE))+1)*VLOOKUP($C13,'Регламент'!$A$5:$G$40,2,FALSE),"")) | L13: =IF(K13="","",IF(IFERROR(MOD(K13,VLOOKUP($C13,'Регламент'!$A$5:$G$40,5,FALSE)),1)=0,"ТО-"&VLOOKUP($C13,'Регламент'!$A$5:$G$40,5,FALSE),IF(IFERROR(MOD(K13,VLOOKUP($C13,'Регламент'!$A$5:$G$40,4,FALSE)),1)=0,"ТО-"&VLOOKUP($C13,'Регламент'!$A$5:$G$40,4,FALSE),IF(IFERROR(MOD(K13,VLOOKUP($C13,'Регламент'!$A$5:$G$40,3,FALSE)),1)=0,"ТО-"&VLOOKUP($C13,'Регламент'!$A$5:$G$40,3,FALSE),"ТО-"&VLOOKUP($C13,'Регламент'!$A$5:$G$40,2,FALSE))))) | M13: =IF(K13="","",$E$3+(K13-J13)/I13) | N13: =IF(H13="","",IFERROR(IF(VLOOKUP($C13,'Регламент'!$A$5:$G$40,7,FALSE)>0,EDATE(H13,VLOOKUP($C13,'Регламент'!$A$5:$G$40,7,FALSE)),""),"")) | O13: =IF(AND(M13="",N13=""),"",IF(M13="",N13,IF(N13="",M13,MIN(M13,N13)))) | P13: =IF(O13="","",O13-$B$3) | Q13: =IF(O13="","",IF(O13<$E$3,"Срок прошёл",IF(P13<=$E$3,"Звонить","По плану")))
I14: =IF(OR($C14="",D14="",E14=""),"",IF(AND(F14<>"",G14<>"",D14>F14,E14>G14),(E14-G14)/(D14-F14),IFERROR(VLOOKUP($C14,'Регламент'!$A$5:$G$40,6,FALSE)/365,""))) | J14: =IF(OR(I14="",I14<=0),"",E14+I14*MAX(0,$E$3-D14)) | K14: =IF(J14="","",IFERROR((INT(J14/VLOOKUP($C14,'Регламент'!$A$5:$G$40,2,FALSE))+1)*VLOOKUP($C14,'Регламент'!$A$5:$G$40,2,FALSE),"")) | L14: =IF(K14="","",IF(IFERROR(MOD(K14,VLOOKUP($C14,'Регламент'!$A$5:$G$40,5,FALSE)),1)=0,"ТО-"&VLOOKUP($C14,'Регламент'!$A$5:$G$40,5,FALSE),IF(IFERROR(MOD(K14,VLOOKUP($C14,'Регламент'!$A$5:$G$40,4,FALSE)),1)=0,"ТО-"&VLOOKUP($C14,'Регламент'!$A$5:$G$40,4,FALSE),IF(IFERROR(MOD(K14,VLOOKUP($C14,'Регламент'!$A$5:$G$40,3,FALSE)),1)=0,"ТО-"&VLOOKUP($C14,'Регламент'!$A$5:$G$40,3,FALSE),"ТО-"&VLOOKUP($C14,'Регламент'!$A$5:$G$40,2,FALSE))))) | M14: =IF(K14="","",$E$3+(K14-J14)/I14) | N14: =IF(H14="","",IFERROR(IF(VLOOKUP($C14,'Регламент'!$A$5:$G$40,7,FALSE)>0,EDATE(H14,VLOOKUP($C14,'Регламент'!$A$5:$G$40,7,FALSE)),""),"")) | O14: =IF(AND(M14="",N14=""),"",IF(M14="",N14,IF(N14="",M14,MIN(M14,N14)))) | P14: =IF(O14="","",O14-$B$3) | Q14: =IF(O14="","",IF(O14<$E$3,"Срок прошёл",IF(P14<=$E$3,"Звонить","По плану")))
I15: =IF(OR($C15="",D15="",E15=""),"",IF(AND(F15<>"",G15<>"",D15>F15,E15>G15),(E15-G15)/(D15-F15),IFERROR(VLOOKUP($C15,'Регламент'!$A$5:$G$40,6,FALSE)/365,""))) | J15: =IF(OR(I15="",I15<=0),"",E15+I15*MAX(0,$E$3-D15)) | K15: =IF(J15="","",IFERROR((INT(J15/VLOOKUP($C15,'Регламент'!$A$5:$G$40,2,FALSE))+1)*VLOOKUP($C15,'Регламент'!$A$5:$G$40,2,FALSE),"")) | L15: =IF(K15="","",IF(IFERROR(MOD(K15,VLOOKUP($C15,'Регламент'!$A$5:$G$40,5,FALSE)),1)=0,"ТО-"&VLOOKUP($C15,'Регламент'!$A$5:$G$40,5,FALSE),IF(IFERROR(MOD(K15,VLOOKUP($C15,'Регламент'!$A$5:$G$40,4,FALSE)),1)=0,"ТО-"&VLOOKUP($C15,'Регламент'!$A$5:$G$40,4,FALSE),IF(IFERROR(MOD(K15,VLOOKUP($C15,'Регламент'!$A$5:$G$40,3,FALSE)),1)=0,"ТО-"&VLOOKUP($C15,'Регламент'!$A$5:$G$40,3,FALSE),"ТО-"&VLOOKUP($C15,'Регламент'!$A$5:$G$40,2,FALSE))))) | M15: =IF(K15="","",$E$3+(K15-J15)/I15) | N15: =IF(H15="","",IFERROR(IF(VLOOKUP($C15,'Регламент'!$A$5:$G$40,7,FALSE)>0,EDATE(H15,VLOOKUP($C15,'Регламент'!$A$5:$G$40,7,FALSE)),""),"")) | O15: =IF(AND(M15="",N15=""),"",IF(M15="",N15,IF(N15="",M15,MIN(M15,N15)))) | P15: =IF(O15="","",O15-$B$3) | Q15: =IF(O15="","",IF(O15<$E$3,"Срок прошёл",IF(P15<=$E$3,"Звонить","По плану")))
I16: =IF(OR($C16="",D16="",E16=""),"",IF(AND(F16<>"",G16<>"",D16>F16,E16>G16),(E16-G16)/(D16-F16),IFERROR(VLOOKUP($C16,'Регламент'!$A$5:$G$40,6,FALSE)/365,""))) | J16: =IF(OR(I16="",I16<=0),"",E16+I16*MAX(0,$E$3-D16)) | K16: =IF(J16="","",IFERROR((INT(J16/VLOOKUP($C16,'Регламент'!$A$5:$G$40,2,FALSE))+1)*VLOOKUP($C16,'Регламент'!$A$5:$G$40,2,FALSE),"")) | L16: =IF(K16="","",IF(IFERROR(MOD(K16,VLOOKUP($C16,'Регламент'!$A$5:$G$40,5,FALSE)),1)=0,"ТО-"&VLOOKUP($C16,'Регламент'!$A$5:$G$40,5,FALSE),IF(IFERROR(MOD(K16,VLOOKUP($C16,'Регламент'!$A$5:$G$40,4,FALSE)),1)=0,"ТО-"&VLOOKUP($C16,'Регламент'!$A$5:$G$40,4,FALSE),IF(IFERROR(MOD(K16,VLOOKUP($C16,'Регламент'!$A$5:$G$40,3,FALSE)),1)=0,"ТО-"&VLOOKUP($C16,'Регламент'!$A$5:$G$40,3,FALSE),"ТО-"&VLOOKUP($C16,'Регламент'!$A$5:$G$40,2,FALSE))))) | M16: =IF(K16="","",$E$3+(K16-J16)/I16) | N16: =IF(H16="","",IFERROR(IF(VLOOKUP($C16,'Регламент'!$A$5:$G$40,7,FALSE)>0,EDATE(H16,VLOOKUP($C16,'Регламент'!$A$5:$G$40,7,FALSE)),""),"")) | O16: =IF(AND(M16="",N16=""),"",IF(M16="",N16,IF(N16="",M16,MIN(M16,N16)))) | P16: =IF(O16="","",O16-$B$3) | Q16: =IF(O16="","",IF(O16<$E$3,"Срок прошёл",IF(P16<=$E$3,"Звонить","По плану")))
I17: =IF(OR($C17="",D17="",E17=""),"",IF(AND(F17<>"",G17<>"",D17>F17,E17>G17),(E17-G17)/(D17-F17),IFERROR(VLOOKUP($C17,'Регламент'!$A$5:$G$40,6,FALSE)/365,""))) | J17: =IF(OR(I17="",I17<=0),"",E17+I17*MAX(0,$E$3-D17)) | K17: =IF(J17="","",IFERROR((INT(J17/VLOOKUP($C17,'Регламент'!$A$5:$G$40,2,FALSE))+1)*VLOOKUP($C17,'Регламент'!$A$5:$G$40,2,FALSE),"")) | L17: =IF(K17="","",IF(IFERROR(MOD(K17,VLOOKUP($C17,'Регламент'!$A$5:$G$40,5,FALSE)),1)=0,"ТО-"&VLOOKUP($C17,'Регламент'!$A$5:$G$40,5,FALSE),IF(IFERROR(MOD(K17,VLOOKUP($C17,'Регламент'!$A$5:$G$40,4,FALSE)),1)=0,"ТО-"&VLOOKUP($C17,'Регламент'!$A$5:$G$40,4,FALSE),IF(IFERROR(MOD(K17,VLOOKUP($C17,'Регламент'!$A$5:$G$40,3,FALSE)),1)=0,"ТО-"&VLOOKUP($C17,'Регламент'!$A$5:$G$40,3,FALSE),"ТО-"&VLOOKUP($C17,'Регламент'!$A$5:$G$40,2,FALSE))))) | M17: =IF(K17="","",$E$3+(K17-J17)/I17) | N17: =IF(H17="","",IFERROR(IF(VLOOKUP($C17,'Регламент'!$A$5:$G$40,7,FALSE)>0,EDATE(H17,VLOOKUP($C17,'Регламент'!$A$5:$G$40,7,FALSE)),""),"")) | O17: =IF(AND(M17="",N17=""),"",IF(M17="",N17,IF(N17="",M17,MIN(M17,N17)))) | P17: =IF(O17="","",O17-$B$3) | Q17: =IF(O17="","",IF(O17<$E$3,"Срок прошёл",IF(P17<=$E$3,"Звонить","По плану")))
I18: =IF(OR($C18="",D18="",E18=""),"",IF(AND(F18<>"",G18<>"",D18>F18,E18>G18),(E18-G18)/(D18-F18),IFERROR(VLOOKUP($C18,'Регламент'!$A$5:$G$40,6,FALSE)/365,""))) | J18: =IF(OR(I18="",I18<=0),"",E18+I18*MAX(0,$E$3-D18)) | K18: =IF(J18="","",IFERROR((INT(J18/VLOOKUP($C18,'Регламент'!$A$5:$G$40,2,FALSE))+1)*VLOOKUP($C18,'Регламент'!$A$5:$G$40,2,FALSE),"")) | L18: =IF(K18="","",IF(IFERROR(MOD(K18,VLOOKUP($C18,'Регламент'!$A$5:$G$40,5,FALSE)),1)=0,"ТО-"&VLOOKUP($C18,'Регламент'!$A$5:$G$40,5,FALSE),IF(IFERROR(MOD(K18,VLOOKUP($C18,'Регламент'!$A$5:$G$40,4,FALSE)),1)=0,"ТО-"&VLOOKUP($C18,'Регламент'!$A$5:$G$40,4,FALSE),IF(IFERROR(MOD(K18,VLOOKUP($C18,'Регламент'!$A$5:$G$40,3,FALSE)),1)=0,"ТО-"&VLOOKUP($C18,'Регламент'!$A$5:$G$40,3,FALSE),"ТО-"&VLOOKUP($C18,'Регламент'!$A$5:$G$40,2,FALSE))))) | M18: =IF(K18="","",$E$3+(K18-J18)/I18) | N18: =IF(H18="","",IFERROR(IF(VLOOKUP($C18,'Регламент'!$A$5:$G$40,7,FALSE)>0,EDATE(H18,VLOOKUP($C18,'Регламент'!$A$5:$G$40,7,FALSE)),""),"")) | O18: =IF(AND(M18="",N18=""),"",IF(M18="",N18,IF(N18="",M18,MIN(M18,N18)))) | P18: =IF(O18="","",O18-$B$3) | Q18: =IF(O18="","",IF(O18<$E$3,"Срок прошёл",IF(P18<=$E$3,"Звонить","По плану")))
I19: =IF(OR($C19="",D19="",E19=""),"",IF(AND(F19<>"",G19<>"",D19>F19,E19>G19),(E19-G19)/(D19-F19),IFERROR(VLOOKUP($C19,'Регламент'!$A$5:$G$40,6,FALSE)/365,""))) | J19: =IF(OR(I19="",I19<=0),"",E19+I19*MAX(0,$E$3-D19)) | K19: =IF(J19="","",IFERROR((INT(J19/VLOOKUP($C19,'Регламент'!$A$5:$G$40,2,FALSE))+1)*VLOOKUP($C19,'Регламент'!$A$5:$G$40,2,FALSE),"")) | L19: =IF(K19="","",IF(IFERROR(MOD(K19,VLOOKUP($C19,'Регламент'!$A$5:$G$40,5,FALSE)),1)=0,"ТО-"&VLOOKUP($C19,'Регламент'!$A$5:$G$40,5,FALSE),IF(IFERROR(MOD(K19,VLOOKUP($C19,'Регламент'!$A$5:$G$40,4,FALSE)),1)=0,"ТО-"&VLOOKUP($C19,'Регламент'!$A$5:$G$40,4,FALSE),IF(IFERROR(MOD(K19,VLOOKUP($C19,'Регламент'!$A$5:$G$40,3,FALSE)),1)=0,"ТО-"&VLOOKUP($C19,'Регламент'!$A$5:$G$40,3,FALSE),"ТО-"&VLOOKUP($C19,'Регламент'!$A$5:$G$40,2,FALSE))))) | M19: =IF(K19="","",$E$3+(K19-J19)/I19) | N19: =IF(H19="","",IFERROR(IF(VLOOKUP($C19,'Регламент'!$A$5:$G$40,7,FALSE)>0,EDATE(H19,VLOOKUP($C19,'Регламент'!$A$5:$G$40,7,FALSE)),""),"")) | O19: =IF(AND(M19="",N19=""),"",IF(M19="",N19,IF(N19="",M19,MIN(M19,N19)))) | P19: =IF(O19="","",O19-$B$3) | Q19: =IF(O19="","",IF(O19<$E$3,"Срок прошёл",IF(P19<=$E$3,"Звонить","По плану")))
I20: =IF(OR($C20="",D20="",E20=""),"",IF(AND(F20<>"",G20<>"",D20>F20,E20>G20),(E20-G20)/(D20-F20),IFERROR(VLOOKUP($C20,'Регламент'!$A$5:$G$40,6,FALSE)/365,""))) | J20: =IF(OR(I20="",I20<=0),"",E20+I20*MAX(0,$E$3-D20)) | K20: =IF(J20="","",IFERROR((INT(J20/VLOOKUP($C20,'Регламент'!$A$5:$G$40,2,FALSE))+1)*VLOOKUP($C20,'Регламент'!$A$5:$G$40,2,FALSE),"")) | L20: =IF(K20="","",IF(IFERROR(MOD(K20,VLOOKUP($C20,'Регламент'!$A$5:$G$40,5,FALSE)),1)=0,"ТО-"&VLOOKUP($C20,'Регламент'!$A$5:$G$40,5,FALSE),IF(IFERROR(MOD(K20,VLOOKUP($C20,'Регламент'!$A$5:$G$40,4,FALSE)),1)=0,"ТО-"&VLOOKUP($C20,'Регламент'!$A$5:$G$40,4,FALSE),IF(IFERROR(MOD(K20,VLOOKUP($C20,'Регламент'!$A$5:$G$40,3,FALSE)),1)=0,"ТО-"&VLOOKUP($C20,'Регламент'!$A$5:$G$40,3,FALSE),"ТО-"&VLOOKUP($C20,'Регламент'!$A$5:$G$40,2,FALSE))))) | M20: =IF(K20="","",$E$3+(K20-J20)/I20) | N20: =IF(H20="","",IFERROR(IF(VLOOKUP($C20,'Регламент'!$A$5:$G$40,7,FALSE)>0,EDATE(H20,VLOOKUP($C20,'Регламент'!$A$5:$G$40,7,FALSE)),""),"")) | O20: =IF(AND(M20="",N20=""),"",IF(M20="",N20,IF(N20="",M20,MIN(M20,N20)))) | P20: =IF(O20="","",O20-$B$3) | Q20: =IF(O20="","",IF(O20<$E$3,"Срок прошёл",IF(P20<=$E$3,"Звонить","По плану")))
... I105: =IF(OR($C105="",D105="",E105=""),"",IF(AND(F105<>"",G105<>"",D105>F105,E105>G105),(E105-G105)/(D105-F105),IFERROR(VLOOKUP($C105,'Регламент'!$A$5:$G$40,6,FALSE)/365,""))) | J105: =IF(OR(I105="",I105<=0),"",E105+I105*MAX(0,$E$3-D105)) | K105: =IF(J105="","",IFERROR((INT(J105/VLOOKUP($C105,'Регламент'!$A$5:$G$40,2,FALSE))+1)*VLOOKUP($C105,'Регламент'!$A$5:$G$40,2,FALSE),"")) | L105: =IF(K105="","",IF(IFERROR(MOD(K105,VLOOKUP($C105,'Регламент'!$A$5:$G$40,5,FALSE)),1)=0,"ТО-"&VLOOKUP($C105,'Регламент'!$A$5:$G$40,5,FALSE),IF(IFERROR(MOD(K105,VLOOKUP($C105,'Регламент'!$A$5:$G$40,4,FALSE)),1)=0,"ТО-"&VLOOKUP($C105,'Регламент'!$A$5:$G$40,4,FALSE),IF(IFERROR(MOD(K105,VLOOKUP($C105,'Регламент'!$A$5:$G$40,3,FALSE)),1)=0,"ТО-"&VLOOKUP($C105,'Регламент'!$A$5:$G$40,3,FALSE),"ТО-"&VLOOKUP($C105,'Регламент'!$A$5:$G$40,2,FALSE))))) | M105: =IF(K105="","",$E$3+(K105-J105)/I105) | N105: =IF(H105="","",IFERROR(IF(VLOOKUP($C105,'Регламент'!$A$5:$G$40,7,FALSE)>0,EDATE(H105,VLOOKUP($C105,'Регламент'!$A$5:$G$40,7,FALSE)),""),"")) | O105: =IF(AND(M105="",N105=""),"",IF(M105="",N105,IF(N105="",M105,MIN(M105,N105)))) | P105: =IF(O105="","",O105-$B$3) | Q105: =IF(O105="","",IF(O105<$E$3,"Срок прошёл",IF(P105<=$E$3,"Звонить","По плану")))

Sheet Регламент
A1: Регламент ТО по типам техники
A2: Пример — впишите интервалы и сроки из руководства производителя. Интервалы — по возрастанию. Grada — CRM с ИИ-помощником для дилеров спецтехники · gradacrm.ru
A4: Тип техники | B4: Интервал 1, м/ч | C4: Интервал 2, м/ч | D4: Интервал 3, м/ч | E4: Интервал 4, м/ч | F4: Наработка в год, м/ч (если замер один) | G4: Календарный срок, мес | H4: Что входит, комплект, стоимость
A5: Экскаватор | B5: 250 | C5: 500 | D5: 1000 | E5: 2000 | F5: 1800 | G5: 12
A6: Фронтальный погрузчик | B6: 250 | C6: 500 | D6: 1000 | E6: 2000 | F6: 1500 | G6: 12
A7: Экскаватор-погрузчик | B7: 500 | C7: 1000 | D7: 2000 | F7: 1200 | G7: 12

Sheet Как пользоваться
A1: Как вести график ТО
A2: Grada — CRM с ИИ-помощником для дилеров спецтехники · gradacrm.ru
A4: 1. | B4: На листе «Регламент» впишите типы техники и интервалы ТО из руководства производителя — по возрастанию: 250, 500, 1000, 2000. Если ТО совпадают, график покажет самое полное: на 2 000 часах — ТО-2000.
A5: 2. | B5: На листе «График» одна строка — одна машина. Тип выберите из списка — он берётся из «Регламента».
A6: 3. | B6: Впишите последний замер моточасов с датой и, если есть, предыдущий. По двум замерам считается темп — сколько машина работает в день. Если замер один, темп берётся из годовой наработки в «Регламенте».
A7: 4. | B7: Дата последнего ТО нужна для календарного срока: машина, которая мало работает, дойдёт до ТО по дате раньше, чем по моточасам. Ориентир — то, что наступит раньше.
A8: 5. | B8: «Позвонить» — дата ТО минус дни из ячейки «Напоминать за». Статус «Звонить» — пора связаться с клиентом.
A9: 6. | B9: Уточняйте моточасы при каждом контакте и после каждого ТО: новый замер — точнее прогноз.
A10: 7. | B10: Подробно — в статье «ТО по моточасам»: gradacrm.ru/stati/to-po-motochasam/
